{
 "currentVersion": 10.91,
 "serviceDescription": "",
 "mapName": "Imagery",
 "description": "Data Type:\tAGS Service\nAGS Server:\thttps://maps.tracker.co.za/ArcGIS/REST/Services/Consumer/Imagery/MapServer\nLayer name:\tConsumer:Imagery\nCached:\t\tCached\nFile Format: \tPNG32\n\nCache Scales at 96 DPI:\n1:1 066\n1:2 133\n1:4 265\n1:8 531\n1:17 062\n1:34 124\n1:68 247\n1:136 495\n1:272 989\n1:545 979\n1:1 091 958\n1:2 183 915\n1:4 367 830\n1:8 735 660\n1:17 471 321\n1:34 942 641\n1:69 885 283\n1:139 770 566\n1:279 541 132\n1:559 082 264\n\nInfo: gis-admin@tracker.co.za",
 "copyrightText": "Tracker, Tom Tom, Digital Globe, CDNGI, NASA",
 "supportsDynamicLayers": false,
 "layers": [
  {
   "id": 0,
   "name": "RSA_Base_MOS",
   "parentLayerId": -1,
   "defaultVisibility": true,
   "subLayerIds": [
    1,
    2,
    3
   ],
   "minScale": 136494,
   "maxScale": 0,
   "type": "Mosaic Layer"
  },
  {
   "id": 1,
   "name": "Boundary",
   "parentLayerId": 0,
   "defaultVisibility": false,
   "subLayerIds": null,
   "minScale": 0,
   "maxScale": 0,
   "type": "Feature Layer",
   "geometryType": "esriGeometryPolygon"
  },
  {
   "id": 2,
   "name": "Footprint",
   "parentLayerId": 0,
   "defaultVisibility": false,
   "subLayerIds": null,
   "minScale": 0,
   "maxScale": 0,
   "type": "Feature Layer",
   "geometryType": "esriGeometryPolygon"
  },
  {
   "id": 3,
   "name": "Image",
   "parentLayerId": 0,
   "defaultVisibility": true,
   "subLayerIds": null,
   "minScale": 0,
   "maxScale": 0,
   "type": "Raster Layer"
  },
  {
   "id": 4,
   "name": "RSA_Base_MOS",
   "parentLayerId": -1,
   "defaultVisibility": true,
   "subLayerIds": [
    5,
    6,
    7
   ],
   "minScale": 1091957,
   "maxScale": 136495,
   "type": "Mosaic Layer"
  },
  {
   "id": 5,
   "name": "Boundary",
   "parentLayerId": 4,
   "defaultVisibility": false,
   "subLayerIds": null,
   "minScale": 0,
   "maxScale": 0,
   "type": "Feature Layer",
   "geometryType": "esriGeometryPolygon"
  },
  {
   "id": 6,
   "name": "Footprint",
   "parentLayerId": 4,
   "defaultVisibility": false,
   "subLayerIds": null,
   "minScale": 0,
   "maxScale": 0,
   "type": "Feature Layer",
   "geometryType": "esriGeometryPolygon"
  },
  {
   "id": 7,
   "name": "Image",
   "parentLayerId": 4,
   "defaultVisibility": true,
   "subLayerIds": null,
   "minScale": 0,
   "maxScale": 0,
   "type": "Raster Layer"
  },
  {
   "id": 8,
   "name": "RSA_Base_MOS",
   "parentLayerId": -1,
   "defaultVisibility": true,
   "subLayerIds": [
    9,
    10,
    11
   ],
   "minScale": 8735660,
   "maxScale": 1091958,
   "type": "Mosaic Layer"
  },
  {
   "id": 9,
   "name": "Boundary",
   "parentLayerId": 8,
   "defaultVisibility": false,
   "subLayerIds": null,
   "minScale": 0,
   "maxScale": 0,
   "type": "Feature Layer",
   "geometryType": "esriGeometryPolygon"
  },
  {
   "id": 10,
   "name": "Footprint",
   "parentLayerId": 8,
   "defaultVisibility": false,
   "subLayerIds": null,
   "minScale": 0,
   "maxScale": 0,
   "type": "Feature Layer",
   "geometryType": "esriGeometryPolygon"
  },
  {
   "id": 11,
   "name": "Image",
   "parentLayerId": 8,
   "defaultVisibility": true,
   "subLayerIds": null,
   "minScale": 0,
   "maxScale": 0,
   "type": "Raster Layer"
  },
  {
   "id": 12,
   "name": "NASA",
   "parentLayerId": -1,
   "defaultVisibility": true,
   "subLayerIds": null,
   "minScale": 0,
   "maxScale": 0,
   "type": "Raster Catalog Layer",
   "geometryType": "esriGeometryPolygon"
  }
 ],
 "tables": [],
 "spatialReference": {
  "wkid": 4326,
  "latestWkid": 4326
 },
 "singleFusedMapCache": true,
 "tileInfo": {
  "rows": 256,
  "cols": 256,
  "dpi": 96,
  "format": "PNG32",
  "compressionQuality": 0,
  "origin": {
   "x": -400,
   "y": 400
  },
  "spatialReference": {
   "wkid": 4326,
   "latestWkid": 4326
  },
  "lods": [
   {
    "level": 0,
    "resolution": 1.3303144462393104,
    "scale": 559082264
   },
   {
    "level": 1,
    "resolution": 0.6651572231196552,
    "scale": 279541132
   },
   {
    "level": 2,
    "resolution": 0.3325786115598276,
    "scale": 139770566
   },
   {
    "level": 3,
    "resolution": 0.1662893057799138,
    "scale": 69885283
   },
   {
    "level": 4,
    "resolution": 0.08314465170022639,
    "scale": 34942641
   },
   {
    "level": 5,
    "resolution": 0.0415723270398437,
    "scale": 17471321
   },
   {
    "level": 6,
    "resolution": 0.020786162330191347,
    "scale": 8735660
   },
   {
    "level": 7,
    "resolution": 0.010393081165095673,
    "scale": 4367830
   },
   {
    "level": 8,
    "resolution": 0.005196540582547837,
    "scale": 2183915
   },
   {
    "level": 9,
    "resolution": 0.0025982714810044213,
    "scale": 1091958
   },
   {
    "level": 10,
    "resolution": 0.0012991357405022106,
    "scale": 545979
   },
   {
    "level": 11,
    "resolution": 6.495666805206024E-4,
    "scale": 272989
   },
   {
    "level": 12,
    "resolution": 3.247845299908041E-4,
    "scale": 136495
   },
   {
    "level": 13,
    "resolution": 1.6239107526489914E-4,
    "scale": 68247
   },
   {
    "level": 14,
    "resolution": 8.119672736295249E-5,
    "scale": 34124
   },
   {
    "level": 15,
    "resolution": 4.0598363681476244E-5,
    "scale": 17062
   },
   {
    "level": 16,
    "resolution": 2.0299181840738122E-5,
    "scale": 8531
   },
   {
    "level": 17,
    "resolution": 1.0148401189866145E-5,
    "scale": 4265
   },
   {
    "level": 18,
    "resolution": 5.0753903254359874E-6,
    "scale": 2133
   },
   {
    "level": 19,
    "resolution": 2.5365054322150786E-6,
    "scale": 1066
   }
  ]
 },
 "initialExtent": {
  "xmin": 27.944593957789888,
  "ymin": -25.69115483768499,
  "xmax": 29.374161452631352,
  "ymax": -25.177920282526188,
  "spatialReference": {
   "cs": "gcs",
   "wkid": 4326
  }
 },
 "fullExtent": {
  "xmin": -179.99999999999991,
  "ymin": -90.00000000699993,
  "xmax": 180.00000000700004,
  "ymax": 90.00000000000006,
  "spatialReference": {
   "cs": "gcs",
   "wkid": 4326
  }
 },
 "minScale": 279541132,
 "maxScale": 1066,
 "units": "esriDecimalDegrees",
 "supportedImageFormatTypes": "PNG32,PNG24,PNG,JPG,DIB,TIFF,EMF,PS,PDF,GIF,SVG,SVGZ,BMP",
 "documentInfo": {
  "Title": "",
  "Author": "",
  "Comments": "",
  "Subject": "",
  "Category": "",
  "AntialiasingMode": "Best",
  "TextAntialiasingMode": "Force",
  "Keywords": ""
 },
 "capabilities": "Map",
 "supportedQueryFormats": "JSON, geoJSON",
 "exportTilesAllowed": false,
 "referenceScale": 0,
 "supportsDatumTransformation": true,
 "maxRecordCount": 1000,
 "maxImageHeight": 4096,
 "maxImageWidth": 4096,
 "supportedExtensions": ""
}
