View In:
ArcGIS JavaScript
ArcGIS Online Map Viewer
ArcGIS Earth
ArcMap
ArcGIS Pro
View Footprint In:
ArcGIS Online Map Viewer
Service Description: Tracker Consumer Hybrid_Overlay
Map Name: ConsumerHybridOverlay
Legend
All Layers and Tables
Layers:
Description: Data Type: AGS Service
AGS Server: https://maps.tracker.co.za/ArcGIS/REST/Services/Consumer/Map/MapServer
Layer name: Consumer:Map
Cached: Cached
File Format: PNG32
Cache Scales at 96 DPI:
1:1 066
1:2 133
1:4 265
1:8 531
1:17 062
1:34 124
1:68 247
1:136 495
1:272 989
1:545 979
1:1 091 958
1:2 183 915
1:4 367 830
1:8 735 660
1:17 471 321
1:34 942 641
1:69 885 283
1:139 770 566
1:279 541 132
1:559 082 264
Info: gis-admin@tracker.co.za
Copyright Text: Copyright Tracker Connect PTY LTD, TomTom, DigitalGlobe, NGI, NASA, USGS
Spatial Reference:
102100
(3857)
Single Fused Map Cache: true
Tile Info:
- Height: 256
- Width: 256
- DPI: 96
-
Levels of Detail: 20
-
Level ID: 0
[ Start Tile, End Tile ]
- Resolution: 156543.03392800014
- Scale: 5.91657527591555E8
-
Level ID: 1
[ Start Tile, End Tile ]
- Resolution: 78271.51696399994
- Scale: 2.95828763795777E8
-
Level ID: 2
[ Start Tile, End Tile ]
- Resolution: 39135.75848200009
- Scale: 1.47914381897889E8
-
Level ID: 3
[ Start Tile, End Tile ]
- Resolution: 19567.87924099992
- Scale: 7.3957190948944E7
-
Level ID: 4
[ Start Tile, End Tile ]
- Resolution: 9783.93962049996
- Scale: 3.6978595474472E7
-
Level ID: 5
[ Start Tile, End Tile ]
- Resolution: 4891.96981024998
- Scale: 1.8489297737236E7
- Format: PNG
- Compression Quality: 0.0
- Origin: X: -2.0037508342787E7
Y: 2.0037508342787E7
- Spatial Reference: 102100
(3857)
Initial Extent:
XMin: 2671552.573315886
YMin: -3408659.167089034
XMax: 2979105.1254154565
YMax: -3244687.0071594715
Spatial Reference: 102100
(3857)
Full Extent:
XMin: NaN
YMin: NaN
XMax: NaN
YMax: NaN
Spatial Reference: 102100
(3857)
Units: esriMeters
Supported Image Format Types: PNG32,PNG24,PNG,JPG,DIB,TIFF,EMF,PS,PDF,GIF,SVG,SVGZ,BMP
Document Info:
Title:
Author:
Comments: Tracker Consumer Hybrid_Overlay
Subject: Tracker Consumer Hybrid_Overlay
Category:
Keywords: Consumer Hybrid_Overlay Vector
AntialiasingMode: Best
TextAntialiasingMode: Force
Supports Dynamic Layers: false
MaxRecordCount: 1000
MaxImageHeight: 4096
MaxImageWidth: 4096
Supported Query Formats: JSON, geoJSON
Supports Query Data Elements:
Min Scale: 0
Max Scale: 0
Supports Datum Transformation: true
Child Resources:
Info
Supported Operations:
Export Map
QueryLegends
Return Updates