View In:
ArcGIS JavaScript
ArcGIS Online Map Viewer
ArcGIS Earth
ArcMap
ArcGIS Pro
View Footprint In:
ArcGIS Online Map Viewer
Service Description: Tracker Consumer Map
Map Name: ConsumerMap
Legend
All Layers and Tables
Layers:
Description: Data Type: AGS Service
AGS Server: https://maps.tracker.co.za/ArcGIS/REST/Services/Consumer/Map/MapServer
Layer name: Consumer:Map
Cached: Cached
File Format: PNG32
Cache Scales at 96 DPI:
1:1 066
1:2 133
1:4 265
1:8 531
1:17 062
1:34 124
1:68 247
1:136 495
1:272 989
1:545 979
1:1 091 958
1:2 183 915
1:4 367 830
1:8 735 660
1:17 471 321
1:34 942 641
1:69 885 283
1:139 770 566
1:279 541 132
1:559 082 264
Info: gis-admin@tracker.co.za
Copyright Text: © 1997-2022 Tracker Connect (Pty) Ltd © 2006-2021 TomTom © Airbus, NGS, NASA, USGS
Spatial Reference:
4326
(4326)
Single Fused Map Cache: true
Tile Info:
- Height: 256
- Width: 256
- DPI: 96
-
Levels of Detail: 20
-
Level ID: 0
[ Start Tile, End Tile ]
- Resolution: 0.6651572231538215
- Scale: 2.795411320143589E8
-
Level ID: 1
[ Start Tile, End Tile ]
- Resolution: 0.33257861157691077
- Scale: 1.3977056600717944E8
-
Level ID: 2
[ Start Tile, End Tile ]
- Resolution: 0.16628930578845538
- Scale: 6.988528300358972E7
-
Level ID: 3
[ Start Tile, End Tile ]
- Resolution: 0.08314465289422769
- Scale: 3.494264150179486E7
-
Level ID: 4
[ Start Tile, End Tile ]
- Resolution: 0.041572326447113846
- Scale: 1.747132075089743E7
-
Level ID: 5
[ Start Tile, End Tile ]
- Resolution: 0.020786163223556923
- Scale: 8735660.375448715
-
Level ID: 6
[ Start Tile, End Tile ]
- Resolution: 0.010393081611778461
- Scale: 4367830.1877243575
-
Level ID: 7
[ Start Tile, End Tile ]
- Resolution: 0.005196540805889231
- Scale: 2183915.0938621787
-
Level ID: 8
[ Start Tile, End Tile ]
- Resolution: 0.0025982704029446154
- Scale: 1091957.5469310894
-
Level ID: 9
[ Start Tile, End Tile ]
- Resolution: 0.0012991352014723077
- Scale: 545978.7734655447
-
Level ID: 10
[ Start Tile, End Tile ]
- Resolution: 6.495676007361538E-4
- Scale: 272989.38673277234
-
Level ID: 11
[ Start Tile, End Tile ]
- Resolution: 3.247838003680769E-4
- Scale: 136494.69336638617
-
Level ID: 12
[ Start Tile, End Tile ]
- Resolution: 1.6239190018403846E-4
- Scale: 68247.34668319309
-
Level ID: 13
[ Start Tile, End Tile ]
- Resolution: 8.119595009201923E-5
- Scale: 34123.67334159654
-
Level ID: 14
[ Start Tile, End Tile ]
- Resolution: 4.0597975046009615E-5
- Scale: 17061.83667079827
-
Level ID: 15
[ Start Tile, End Tile ]
- Resolution: 2.0298987523004807E-5
- Scale: 8530.918335399136
-
Level ID: 16
[ Start Tile, End Tile ]
- Resolution: 1.0149493761502404E-5
- Scale: 4265.459167699568
-
Level ID: 17
[ Start Tile, End Tile ]
- Resolution: 5.074746880751202E-6
- Scale: 2132.729583849784
-
Level ID: 18
[ Start Tile, End Tile ]
- Resolution: 2.537373440375601E-6
- Scale: 1066.364791924892
-
Level ID: 19
[ Start Tile, End Tile ]
- Resolution: 1.2686867201878005E-6
- Scale: 533.182395962446
- Format: PNG32
- Compression Quality: 0.0
- Origin: X: -180.0
Y: 90.0
- Spatial Reference: 4326
(4326)
Initial Extent:
XMin: 19.458470134916972
YMin: -28.341882611718525
XMax: 29.20635507275525
YMax: -24.84225674035286
Spatial Reference: 4326
Full Extent:
XMin: -180
YMin: -90.000000000036
XMax: 180.00000000007202
YMax: 90.00000000000001
Spatial Reference: 4326
Units: esriDecimalDegrees
Supported Image Format Types: PNG32,PNG24,PNG,JPG,DIB,TIFF,EMF,PS,PDF,GIF,SVG,SVGZ,BMP
Document Info:
Title:
Author:
Comments: Tracker Consumer Map
Subject: Tracker Consumer Map
Category:
Keywords: Consumer Map Vector
AntialiasingMode: Best
TextAntialiasingMode: Force
Supports Dynamic Layers: false
MaxRecordCount: 1000
MaxImageHeight: 4096
MaxImageWidth: 4096
Supported Query Formats: JSON, geoJSON
Supports Query Data Elements:
Min Scale: 2.795411320143589E8
Max Scale: 533.182395962446
Supports Datum Transformation: true
Child Resources:
Info
Supported Operations:
Export Map
QueryLegends
Return Updates